BEGIN:VCALENDAR
VERSION:2.0
PRODID:-//217.160.0.176//NONSGML kigkonsult.se iCalcreator 2.20//
CALSCALE:GREGORIAN
METHOD:PUBLISH
X-WR-TIMEZONE:UTC
BEGIN:VEVENT
UID:event155@1ère compagnie d arc d Aulnay-sous-Bois
DTSTAMP:20260421T132424Z
CATEGORIES:Evènements
DESCRIPTION:Défilé du Bouquet\nCategory: Evènements\nLink: http://www.arcau
 lnay.fr/index.php?option=com_jem&view=event&id=155:defile-du-bouquet\n
DTSTART;VALUE=DATE:20250518
DTEND;VALUE=DATE:20250519
SUMMARY:Défilé du Bouquet
URL:http://www.arcaulnay.fr/index.php?option=com_jem&view=event&id=155:defi
 le-du-bouquet
END:VEVENT
END:VCALENDAR
