BEGIN:VCALENDAR
VERSION:2.0
PRODID:-//217.160.0.176//NONSGML kigkonsult.se iCalcreator 2.20//
CALSCALE:GREGORIAN
METHOD:PUBLISH
X-WR-TIMEZONE:UTC
BEGIN:VEVENT
UID:event149@1ère compagnie d arc d Aulnay-sous-Bois
DTSTAMP:20260423T094729Z
CATEGORIES:Evènements
DESCRIPTION:CD TAEDI\nCategory: Evènements\nLink: http://www.arcaulnay.fr/i
 ndex.php?option=com_jem&view=event&id=149:cd-taedi\n
DTSTART;VALUE=DATE:20250524
DTEND;VALUE=DATE:20250526
SUMMARY:CD TAEDI
URL:http://www.arcaulnay.fr/index.php?option=com_jem&view=event&id=149:cd-t
 aedi
END:VEVENT
END:VCALENDAR
